1.2427213856
0.0000000000
0.0000000000
-1.2427213856
238218.5002519456
2166658.1993408897
