1.0494512349
0.0000000000
0.0000000000
-1.0494512349
252461.1706934314
2153673.5665402077
