1.5186896837
0.0000000000
0.0000000000
-1.5186896837
253966.9709883912
2129339.0348134777
