1.5118537422
0.0000000000
0.0000000000
-1.5118537422
253833.7513999821
2139549.1694901329
