1.0663271935
0.0000000000
0.0000000000
-1.0663271935
256578.7701953848
2207960.8029435934
