1.4153976858
0.0000000000
0.0000000000
-1.4153976858
257367.7835522311
2134423.4407799710
