1.0383138658
0.0000000000
0.0000000000
-1.0383138658
259866.6194622247
2202491.3924396555
