1.1105797574
0.0000000000
0.0000000000
-1.1105797574
259776.5819199128
2198683.0577056692
