1.0384904333
0.0000000000
0.0000000000
-1.0384904333
260061.8413603529
2178352.4880671878
