1.0547380067
0.0000000000
0.0000000000
-1.0547380067
274188.8353703516
2170037.4877974442
