1.0450392911
0.0000000000
0.0000000000
-1.0450392911
274033.3821467398
2160688.4381434834
