1.3312073117
0.0000000000
0.0000000000
-1.3312073117
272035.4653959980
2137123.3634380228
