0.9735471030
0.0000000000
0.0000000000
-0.9735471030
273645.2398701275
2144661.1075813230
