1.2019351155
0.0000000000
0.0000000000
-1.2019351155
274178.9525696934
2204823.3179022660
