1.1565842675
0.0000000000
0.0000000000
-1.1565842675
277802.1914714717
2186867.9517077166
