0.9839191736
0.0000000000
0.0000000000
-0.9839191736
192957.0373241233
2196530.9652027101
