1.2469361042
0.0000000000
0.0000000000
-1.2469361042
191866.7169252662
2157829.3527938025
