1.2421367954
0.0000000000
0.0000000000
-1.2421367954
191737.8804904136
2155798.0379588366
