1.2140524595
0.0000000000
0.0000000000
-1.2140524595
191277.7323033543
2112026.0006617908
