0.9213440766
0.0000000000
0.0000000000
-0.9213440766
196995.9511519526
2165557.0196904023
