1.2718135346
0.0000000000
0.0000000000
-1.2718135346
194980.7899722587
2149696.8379775425
