1.1900665045
0.0000000000
0.0000000000
-1.1900665045
200588.9287802344
2226196.4130710801
