1.0856407804
0.0000000000
0.0000000000
-1.0856407804
199877.0751861734
2173666.9777488816
