1.0190643564
0.0000000000
0.0000000000
-1.0190643564
199538.9157742092
2147717.2781472402
