1.1503937854
0.0000000000
0.0000000000
-1.1503937854
198294.8028106998
2123417.4240475488
