1.1955948152
0.0000000000
0.0000000000
-1.1955948152
204188.2472523488
2206012.8687516544
