1.0480705938
0.0000000000
0.0000000000
-1.0480705938
203490.2516472610
2148619.2619030792
