1.2752395115
0.0000000000
0.0000000000
-1.2752395115
201695.1006173419
2111219.4099462628
