1.1951938566
0.0000000000
0.0000000000
-1.1951938566
207292.0947676987
2206420.5599226640
