1.1957857808
0.0000000000
0.0000000000
-1.1957857808
206826.5798474230
2164162.2645678129
