1.1699596693
0.0000000000
0.0000000000
-1.1699596693
205959.8051429916
2127078.4588166345
