1.4709135366
0.0000000000
0.0000000000
-1.4709135366
108869.2188492366
2278052.6777839046
