1.1652338094
0.0000000000
0.0000000000
-1.1652338094
-170526.7585359974
2455142.9824571200
