1.2825292649
0.0000000000
0.0000000000
-1.2825292649
-166227.2029215257
2471469.5853921529
