1.1623572449
0.0000000000
0.0000000000
-1.1623572449
-199107.1439939227
2461473.3818191681
