1.0762716302
0.0000000000
0.0000000000
-1.0762716302
-191614.8330113889
2465008.1670456538
