1.3367564408
0.0000000000
0.0000000000
-1.3367564408
-189451.3267167099
2446222.0472189062
