1.3623881139
0.0000000000
0.0000000000
-1.3623881139
-174532.4001524000
2460987.7444149959
