1.7220931932
0.0000000000
0.0000000000
-1.7220931932
151315.4085513669
2313396.6111383270
