2.0743434508
0.0000000000
0.0000000000
-2.0743434508
154000.6353950047
2292090.5360945300
