1.0093069669
0.0000000000
0.0000000000
-1.0093069669
163008.5646307244
2297476.3467457430
