1.1480732847
0.0000000000
0.0000000000
-1.1480732847
162901.9359680064
2300263.2173783137
