1.1487999872
0.0000000000
0.0000000000
-1.1487999872
162740.7677829819
2298285.9026259435
