1.1951514399
0.0000000000
0.0000000000
-1.1951514399
177848.5543425572
2301835.0810834211
