1.0672885257
0.0000000000
0.0000000000
-1.0672885257
114150.0475008309
2326603.5478168111
