1.2742729012
0.0000000000
0.0000000000
-1.2742729012
180637.2124616336
2306280.0362924719
