1.2648831902
0.0000000000
0.0000000000
-1.2648831902
124474.7677908648
2314509.4149344927
