1.0309270916
0.0000000000
0.0000000000
-1.0309270916
135216.4415422058
2298152.4415097218
