1.4632800712
0.0000000000
0.0000000000
-1.4632800712
91032.4970510026
2350324.9885626268
