1.4679425377
0.0000000000
0.0000000000
-1.4679425377
94432.6596500814
2339090.9979007700
